BEGIN:VCALENDAR
VERSION:2.0
PRODID:-//General Burns Tennis Club - ECPv6.15.18//NONSGML v1.0//EN
CALSCALE:GREGORIAN
METHOD:PUBLISH
X-WR-CALNAME:General Burns Tennis Club
X-ORIGINAL-URL:https://www.generalburnstennis.ca
X-WR-CALDESC:Events for General Burns Tennis Club
REFRESH-INTERVAL;VALUE=DURATION:PT1H
X-Robots-Tag:noindex
X-PUBLISHED-TTL:PT1H
BEGIN:VTIMEZONE
TZID:UTC
BEGIN:STANDARD
TZOFFSETFROM:+0000
TZOFFSETTO:+0000
TZNAME:UTC
DTSTART:20200101T000000
END:STANDARD
END:VTIMEZONE
BEGIN:VEVENT
DTSTART;TZID=UTC:20210806T190000
DTEND;TZID=UTC:20210806T210000
DTSTAMP:20260423T015804
CREATED:20210228T003024Z
LAST-MODIFIED:20210228T003024Z
UID:3212-1628276400-1628283600@www.generalburnstennis.ca
SUMMARY:Tip of the Month | 7-9pm
DESCRIPTION:Tip of the Month with tennis pro Arthur Cuenco\, from 7-9pm
URL:https://www.generalburnstennis.ca/calendar/tip-of-the-month-3/
LOCATION:Ontario
CATEGORIES:Tip of the Month
END:VEVENT
BEGIN:VEVENT
DTSTART;TZID=UTC:20210709T190000
DTEND;TZID=UTC:20210709T210000
DTSTAMP:20260423T015804
CREATED:20210228T002939Z
LAST-MODIFIED:20210228T002939Z
UID:3210-1625857200-1625864400@www.generalburnstennis.ca
SUMMARY:Tip of the Month | 7-9pm
DESCRIPTION:Tip of the Month with tennis pro Arthur Cuenco\, from 7-9pm
URL:https://www.generalburnstennis.ca/calendar/tip-of-the-month-2/
LOCATION:Ontario
CATEGORIES:Tip of the Month
END:VEVENT
BEGIN:VEVENT
DTSTART;TZID=UTC:20210604T190000
DTEND;TZID=UTC:20210604T210000
DTSTAMP:20260423T015804
CREATED:20210228T002849Z
LAST-MODIFIED:20210228T002849Z
UID:3208-1622833200-1622840400@www.generalburnstennis.ca
SUMMARY:Tip of the Month | 7-9pm
DESCRIPTION:Tip of the Month with tennis pro Arthur Cuenco\, from 7-9pm
URL:https://www.generalburnstennis.ca/calendar/tip-of-the-month-1/
LOCATION:Ontario
CATEGORIES:Tip of the Month
END:VEVENT
END:VCALENDAR