BEGIN:VCALENDAR
VERSION:2.0
PRODID:-//General Burns Tennis Club - ECPv6.15.18//NONSGML v1.0//EN
CALSCALE:GREGORIAN
METHOD:PUBLISH
X-ORIGINAL-URL:https://www.generalburnstennis.ca
X-WR-CALDESC:Events for General Burns Tennis Club
REFRESH-INTERVAL;VALUE=DURATION:PT1H
X-Robots-Tag:noindex
X-PUBLISHED-TTL:PT1H
BEGIN:VTIMEZONE
TZID:UTC
BEGIN:STANDARD
TZOFFSETFROM:+0000
TZOFFSETTO:+0000
TZNAME:UTC
DTSTART:20200101T000000
END:STANDARD
END:VTIMEZONE
BEGIN:VEVENT
DTSTART;VALUE=DATE:20220221
DTEND;VALUE=DATE:20220222
DTSTAMP:20260423T115523
CREATED:20210228T005206Z
LAST-MODIFIED:20210228T005206Z
UID:3244-1645401600-1645487999@www.generalburnstennis.ca
SUMMARY:Ontario Family Day
DESCRIPTION:
URL:https://www.generalburnstennis.ca/calendar/ontario-family-day/
CATEGORIES:Stat Holiday
END:VEVENT
BEGIN:VEVENT
DTSTART;VALUE=DATE:20220101
DTEND;VALUE=DATE:20220102
DTSTAMP:20260423T115523
CREATED:20210228T005131Z
LAST-MODIFIED:20210228T005131Z
UID:3242-1640995200-1641081599@www.generalburnstennis.ca
SUMMARY:New Year's Day
DESCRIPTION:
URL:https://www.generalburnstennis.ca/calendar/new-years-day/
CATEGORIES:Stat Holiday
END:VEVENT
BEGIN:VEVENT
DTSTART;VALUE=DATE:20211226
DTEND;VALUE=DATE:20211227
DTSTAMP:20260423T115523
CREATED:20210228T004939Z
LAST-MODIFIED:20210228T004939Z
UID:3240-1640476800-1640563199@www.generalburnstennis.ca
SUMMARY:Boxing Day
DESCRIPTION:
URL:https://www.generalburnstennis.ca/calendar/boxing-day/
CATEGORIES:Stat Holiday
END:VEVENT
BEGIN:VEVENT
DTSTART;VALUE=DATE:20211225
DTEND;VALUE=DATE:20211226
DTSTAMP:20260423T115523
CREATED:20210228T004912Z
LAST-MODIFIED:20210228T004912Z
UID:3238-1640390400-1640476799@www.generalburnstennis.ca
SUMMARY:Christmas Day
DESCRIPTION:
URL:https://www.generalburnstennis.ca/calendar/christmas-day/
CATEGORIES:Stat Holiday
END:VEVENT
BEGIN:VEVENT
DTSTART;VALUE=DATE:20211011
DTEND;VALUE=DATE:20211012
DTSTAMP:20260423T115523
CREATED:20210228T004754Z
LAST-MODIFIED:20210228T004754Z
UID:3234-1633910400-1633996799@www.generalburnstennis.ca
SUMMARY:Thanksgiving
DESCRIPTION:
URL:https://www.generalburnstennis.ca/calendar/thanksgiving/
CATEGORIES:Stat Holiday
END:VEVENT
BEGIN:VEVENT
DTSTART;VALUE=DATE:20210906
DTEND;VALUE=DATE:20210907
DTSTAMP:20260423T115523
CREATED:20210228T004717Z
LAST-MODIFIED:20210228T004717Z
UID:3232-1630886400-1630972799@www.generalburnstennis.ca
SUMMARY:Labour Day
DESCRIPTION:
URL:https://www.generalburnstennis.ca/calendar/labour-day/
CATEGORIES:Stat Holiday
END:VEVENT
BEGIN:VEVENT
DTSTART;VALUE=DATE:20210802
DTEND;VALUE=DATE:20210803
DTSTAMP:20260423T115523
CREATED:20210228T004639Z
LAST-MODIFIED:20210228T004639Z
UID:3230-1627862400-1627948799@www.generalburnstennis.ca
SUMMARY:Civic Holiday
DESCRIPTION:
URL:https://www.generalburnstennis.ca/calendar/civic-holiday/
CATEGORIES:Stat Holiday
END:VEVENT
BEGIN:VEVENT
DTSTART;VALUE=DATE:20210701
DTEND;VALUE=DATE:20210702
DTSTAMP:20260423T115523
CREATED:20210228T004602Z
LAST-MODIFIED:20210228T004602Z
UID:3228-1625097600-1625183999@www.generalburnstennis.ca
SUMMARY:Canada Day
DESCRIPTION:
URL:https://www.generalburnstennis.ca/calendar/canada-day/
CATEGORIES:Stat Holiday
END:VEVENT
BEGIN:VEVENT
DTSTART;VALUE=DATE:20210524
DTEND;VALUE=DATE:20210525
DTSTAMP:20260423T115523
CREATED:20210228T004512Z
LAST-MODIFIED:20210228T004528Z
UID:3226-1621814400-1621900799@www.generalburnstennis.ca
SUMMARY:Victoria Day
DESCRIPTION:
URL:https://www.generalburnstennis.ca/calendar/victoria-day/
CATEGORIES:Stat Holiday
END:VEVENT
BEGIN:VEVENT
DTSTART;VALUE=DATE:20210412
DTEND;VALUE=DATE:20210413
DTSTAMP:20260423T115523
CREATED:20210228T004405Z
LAST-MODIFIED:20210228T004405Z
UID:3222-1618185600-1618271999@www.generalburnstennis.ca
SUMMARY:Good Friday
DESCRIPTION:
URL:https://www.generalburnstennis.ca/calendar/good-friday/
CATEGORIES:Stat Holiday
END:VEVENT
BEGIN:VEVENT
DTSTART;VALUE=DATE:20210405
DTEND;VALUE=DATE:20210406
DTSTAMP:20260423T115523
CREATED:20210228T004438Z
LAST-MODIFIED:20210228T004438Z
UID:3224-1617580800-1617667199@www.generalburnstennis.ca
SUMMARY:Easter Monday
DESCRIPTION:
URL:https://www.generalburnstennis.ca/calendar/easter-monday/
CATEGORIES:Stat Holiday
END:VEVENT
END:VCALENDAR