BEGIN:VCALENDAR
VERSION:2.0
PRODID:-//General Burns Tennis Club - ECPv6.15.18//NONSGML v1.0//EN
CALSCALE:GREGORIAN
METHOD:PUBLISH
X-WR-CALNAME:General Burns Tennis Club
X-ORIGINAL-URL:https://www.generalburnstennis.ca
X-WR-CALDESC:Events for General Burns Tennis Club
REFRESH-INTERVAL;VALUE=DURATION:PT1H
X-Robots-Tag:noindex
X-PUBLISHED-TTL:PT1H
BEGIN:VTIMEZONE
TZID:America/Toronto
BEGIN:DAYLIGHT
TZOFFSETFROM:-0500
TZOFFSETTO:-0400
TZNAME:EDT
DTSTART:20250309T070000
END:DAYLIGHT
BEGIN:STANDARD
TZOFFSETFROM:-0400
TZOFFSETTO:-0500
TZNAME:EST
DTSTART:20251102T060000
END:STANDARD
BEGIN:DAYLIGHT
TZOFFSETFROM:-0500
TZOFFSETTO:-0400
TZNAME:EDT
DTSTART:20260308T070000
END:DAYLIGHT
BEGIN:STANDARD
TZOFFSETFROM:-0400
TZOFFSETTO:-0500
TZNAME:EST
DTSTART:20261101T060000
END:STANDARD
BEGIN:DAYLIGHT
TZOFFSETFROM:-0500
TZOFFSETTO:-0400
TZNAME:EDT
DTSTART:20270314T070000
END:DAYLIGHT
BEGIN:STANDARD
TZOFFSETFROM:-0400
TZOFFSETTO:-0500
TZNAME:EST
DTSTART:20271107T060000
END:STANDARD
END:VTIMEZONE
BEGIN:VEVENT
DTSTART;TZID=America/Toronto:20260511T190000
DTEND;TZID=America/Toronto:20260511T210000
DTSTAMP:20260421T054046
CREATED:20260311T154931Z
LAST-MODIFIED:20260416T200130Z
UID:5768-1778526000-1778533200@www.generalburnstennis.ca
SUMMARY:Tip of the Month
DESCRIPTION:
URL:https://www.generalburnstennis.ca/calendar/tip-of-the-month-24/
LOCATION:General Burns Tennis Club\, 86 Argue Drive\, Ottawa\, Ontario\, K2E 6S1
CATEGORIES:Tip of the Month
END:VEVENT
BEGIN:VEVENT
DTSTART;TZID=America/Toronto:20260520T190000
DTEND;TZID=America/Toronto:20260520T210000
DTSTAMP:20260421T054046
CREATED:20260328T154932Z
LAST-MODIFIED:20260416T200240Z
UID:5769-1779303600-1779310800@www.generalburnstennis.ca
SUMMARY:Tip of the Month
DESCRIPTION:
URL:https://www.generalburnstennis.ca/calendar/tip-of-the-month-25/
LOCATION:General Burns Tennis Club\, 86 Argue Drive\, Ottawa\, Ontario\, K2E 6S1
CATEGORIES:Tip of the Month
END:VEVENT
BEGIN:VEVENT
DTSTART;TZID=America/Toronto:20260530T100000
DTEND;TZID=America/Toronto:20260530T120000
DTSTAMP:20260421T054046
CREATED:20260328T164426Z
LAST-MODIFIED:20260328T164426Z
UID:5823-1780135200-1780142400@www.generalburnstennis.ca
SUMMARY:Open House
DESCRIPTION:
URL:https://www.generalburnstennis.ca/calendar/open-house/
LOCATION:General Burns Tennis Club\, 86 Argue Drive\, Ottawa\, Ontario\, K2E 6S1
END:VEVENT
BEGIN:VEVENT
DTSTART;TZID=America/Toronto:20260601T190000
DTEND;TZID=America/Toronto:20260601T210000
DTSTAMP:20260421T054046
CREATED:20260328T154932Z
LAST-MODIFIED:20260416T200336Z
UID:5770-1780340400-1780347600@www.generalburnstennis.ca
SUMMARY:Tip of the Month
DESCRIPTION:
URL:https://www.generalburnstennis.ca/calendar/tip-of-the-month-26/
LOCATION:General Burns Tennis Club\, 86 Argue Drive\, Ottawa\, Ontario\, K2E 6S1
CATEGORIES:Tip of the Month
END:VEVENT
BEGIN:VEVENT
DTSTART;TZID=America/Toronto:20260606T000000
DTEND;TZID=America/Toronto:20260606T000000
DTSTAMP:20260421T054046
CREATED:20260328T154940Z
LAST-MODIFIED:20260328T154940Z
UID:5776-1780704000-1780704000@www.generalburnstennis.ca
SUMMARY:Stanley Cup
DESCRIPTION:
URL:https://www.generalburnstennis.ca/calendar/stanley-cup-3/
LOCATION:General Burns Tennis Club\, 86 Argue Drive\, Ottawa\, Ontario\, K2E 6S1
CATEGORIES:Tournaments
END:VEVENT
BEGIN:VEVENT
DTSTART;TZID=America/Toronto:20260617T190000
DTEND;TZID=America/Toronto:20260617T210000
DTSTAMP:20260421T054046
CREATED:20260328T154933Z
LAST-MODIFIED:20260416T200353Z
UID:5771-1781722800-1781730000@www.generalburnstennis.ca
SUMMARY:Tip of the Month
DESCRIPTION:
URL:https://www.generalburnstennis.ca/calendar/tip-of-the-month-27/
LOCATION:General Burns Tennis Club\, 86 Argue Drive\, Ottawa\, Ontario\, K2E 6S1
CATEGORIES:Tip of the Month
END:VEVENT
BEGIN:VEVENT
DTSTART;TZID=America/Toronto:20260711T000000
DTEND;TZID=America/Toronto:20260711T000000
DTSTAMP:20260421T054046
CREATED:20260328T154940Z
LAST-MODIFIED:20260328T154940Z
UID:5777-1783728000-1783728000@www.generalburnstennis.ca
SUMMARY:Strawberries and Cream
DESCRIPTION:
URL:https://www.generalburnstennis.ca/calendar/strawberries-and-cream/
LOCATION:General Burns Tennis Club\, 86 Argue Drive\, Ottawa\, Ontario\, K2E 6S1
CATEGORIES:Tournaments
END:VEVENT
BEGIN:VEVENT
DTSTART;TZID=America/Toronto:20260713T190000
DTEND;TZID=America/Toronto:20260713T210000
DTSTAMP:20260421T054046
CREATED:20260328T154933Z
LAST-MODIFIED:20260416T200420Z
UID:5772-1783969200-1783976400@www.generalburnstennis.ca
SUMMARY:Tip of the Month
DESCRIPTION:
URL:https://www.generalburnstennis.ca/calendar/tip-of-the-month-28/
LOCATION:General Burns Tennis Club\, 86 Argue Drive\, Ottawa\, Ontario\, K2E 6S1
CATEGORIES:Tip of the Month
END:VEVENT
BEGIN:VEVENT
DTSTART;TZID=America/Toronto:20260729T190000
DTEND;TZID=America/Toronto:20260729T210000
DTSTAMP:20260421T054046
CREATED:20260328T154938Z
LAST-MODIFIED:20260416T200643Z
UID:5774-1785351600-1785358800@www.generalburnstennis.ca
SUMMARY:Tip of the Month
DESCRIPTION:
URL:https://www.generalburnstennis.ca/calendar/tip-of-the-month-30/
LOCATION:General Burns Tennis Club\, 86 Argue Drive\, Ottawa\, Ontario\, K2E 6S1
CATEGORIES:Tip of the Month
END:VEVENT
BEGIN:VEVENT
DTSTART;TZID=America/Toronto:20260810T190000
DTEND;TZID=America/Toronto:20260810T210000
DTSTAMP:20260421T054046
CREATED:20260328T154937Z
LAST-MODIFIED:20260416T200453Z
UID:5773-1786388400-1786395600@www.generalburnstennis.ca
SUMMARY:Tip of the Month
DESCRIPTION:
URL:https://www.generalburnstennis.ca/calendar/tip-of-the-month-29/
LOCATION:General Burns Tennis Club\, 86 Argue Drive\, Ottawa\, Ontario\, K2E 6S1
CATEGORIES:Tip of the Month
END:VEVENT
BEGIN:VEVENT
DTSTART;TZID=America/Toronto:20260826T190000
DTEND;TZID=America/Toronto:20260826T210000
DTSTAMP:20260421T054046
CREATED:20260328T154939Z
LAST-MODIFIED:20260416T200714Z
UID:5775-1787770800-1787778000@www.generalburnstennis.ca
SUMMARY:Tip of the Month
DESCRIPTION:
URL:https://www.generalburnstennis.ca/calendar/tip-of-the-month-31/
LOCATION:General Burns Tennis Club\, 86 Argue Drive\, Ottawa\, Ontario\, K2E 6S1
CATEGORIES:Tip of the Month
END:VEVENT
BEGIN:VEVENT
DTSTART;TZID=America/Toronto:20260914T190000
DTEND;TZID=America/Toronto:20260914T210000
DTSTAMP:20260421T054046
CREATED:20260416T201333Z
LAST-MODIFIED:20260416T201333Z
UID:5896-1789412400-1789419600@www.generalburnstennis.ca
SUMMARY:Tip of the Month
DESCRIPTION:
URL:https://www.generalburnstennis.ca/calendar/tip-of-the-month-32/
LOCATION:General Burns Tennis Club\, 86 Argue Drive\, Ottawa\, Ontario\, K2E 6S1
CATEGORIES:Tip of the Month
END:VEVENT
BEGIN:VEVENT
DTSTART;TZID=America/Toronto:20260918T000000
DTEND;TZID=America/Toronto:20260919T000000
DTSTAMP:20260421T054046
CREATED:20260328T154952Z
LAST-MODIFIED:20260328T154952Z
UID:5778-1789689600-1789776000@www.generalburnstennis.ca
SUMMARY:Club Championship
DESCRIPTION:
URL:https://www.generalburnstennis.ca/calendar/club-championship-2/
LOCATION:General Burns Tennis Club\, 86 Argue Drive\, Ottawa\, Ontario\, K2E 6S1
CATEGORIES:Tournaments
END:VEVENT
BEGIN:VEVENT
DTSTART;TZID=America/Toronto:20260923T190000
DTEND;TZID=America/Toronto:20260923T210000
DTSTAMP:20260421T054046
CREATED:20260416T201524Z
LAST-MODIFIED:20260416T201524Z
UID:5898-1790190000-1790197200@www.generalburnstennis.ca
SUMMARY:Tip of the Month
DESCRIPTION:
URL:https://www.generalburnstennis.ca/calendar/tip-of-the-month-33/
LOCATION:General Burns Tennis Club\, 86 Argue Drive\, Ottawa\, Ontario\, K2E 6S1
CATEGORIES:Tip of the Month
END:VEVENT
END:VCALENDAR